BEGIN:VCALENDAR
VERSION:2.0
PRODID:floktu.com
X-WR-TIMEZONE:Australia/Brisbane
X-PUBLISHED-TTL:P1W
BEGIN:VEVENT
UID:FloktuEvent26129@floktu.com
DTSTART;TZID=Australia/Brisbane:20210618T120000
SEQUENCE:0
TRANSP:OPAQUE
DTEND;TZID=Australia/Brisbane:20210716T210000
SUMMARY:IMOP Candidate for Stretton By-Election Jazzy Melhop Thermomix Raff
 le
DESCRIPTION:Visit https://imopcandidatestrettonthermomixraffle.floktu.com f
 or more information.
DTSTAMP:20260420T213236Z
END:VEVENT
BEGIN:VTIMEZONE
TZID:Australia/Brisbane
X-LIC-LOCATION:Australia/Brisbane
END:VTIMEZONE
END:VCALENDAR