BEGIN:VCALENDAR
VERSION:2.0
PRODID:floktu.com
X-PUBLISHED-TTL:P1W
BEGIN:VEVENT
UID:FloktuEvent26129@floktu.com
DTSTART:20210618T020000Z
SEQUENCE:0
TRANSP:OPAQUE
DTEND:20210716T110000Z
SUMMARY:IMOP Candidate for Stretton By-Election Jazzy Melhop Thermomix Raff
 le
DESCRIPTION:Visit https://imopcandidatestrettonthermomixraffle.floktu.com f
 or more information.
DTSTAMP:20260420T213430Z
END:VEVENT
END:VCALENDAR